BEGIN:VCALENDAR
VERSION:2.0
PRODID:-//Chief - ECPv6.15.20//NONSGML v1.0//EN
CALSCALE:GREGORIAN
METHOD:PUBLISH
X-WR-CALNAME:Chief
X-ORIGINAL-URL:https://chief.org
X-WR-CALDESC:Events for Chief
REFRESH-INTERVAL;VALUE=DURATION:PT1H
X-Robots-Tag:noindex
X-PUBLISHED-TTL:PT1H
BEGIN:VTIMEZONE
TZID:America/Phoenix
BEGIN:STANDARD
TZOFFSETFROM:-0700
TZOFFSETTO:-0700
TZNAME:MST
DTSTART:20210101T000000
END:STANDARD
END:VTIMEZONE
BEGIN:VEVENT
DTSTART;TZID=America/Phoenix:20220506T180000
DTEND;TZID=America/Phoenix:20220508T130000
DTSTAMP:20260424T041408
CREATED:20220422T221400Z
LAST-MODIFIED:20221012T214059Z
UID:1199-1651860000-1652014800@chief.org
SUMMARY:Fluted Rock Bible Conference
DESCRIPTION:Plan to join us! \nThe next generation of Fluted Rock Bible Conference.  \non May 6th – 8th\, 2022 \nFriday evening 6PM \nSaturday 3PM Singspiration (Invitation of Singers) \nSunday 10AM Morning Service  \nSpecial Guest Speaker & AMP; Rev. Huron Claus\, Rev. Calvin Y. Hill \nLOCATION: Ganado\, ARIZONA (Hill’s Residence)  \nContact information Rev. Calvin Y. Hill (406) 845-8135 or Allen  Y. Hill Jr. (928) 551-0412 or Lavene Y. Hill (602) 483-9776 \n  \n 
URL:https://chief.org/event/fluted-rock-bible-conference/
LOCATION:AZ
CATEGORIES:General,Huron's Itenerary
ATTACH;FMTTYPE=image/jpeg:https://chief.org/wp-content/uploads/2022/04/IMG_1037a.jpg
END:VEVENT
END:VCALENDAR